BEGIN:VCALENDAR
VERSION:2.0
PRODID:-//wp-events-plugin.com//7.2.3.1//EN
TZID:Europe/Berlin
X-WR-TIMEZONE:Europe/Berlin
BEGIN:VEVENT
UID:553@hausauffels.de
DTSTART;TZID=Europe/Berlin:20260405T000000
DTEND;TZID=Europe/Berlin:20260405T000000
DTSTAMP:20260310T190925Z
URL:https://hausauffels.de/termine/gottesdienst-ab-1000-uhr-8/
SUMMARY:kein Gottesdienst !!!
DESCRIPTION:
LOCATION:Seeheim-Jugenheim\, Friedrich-Ebert-Straße 49\, Seeheim-Jugenheim
 \, Hessen\, 64342\, Deutschland
X-APPLE-STRUCTURED-LOCATION;VALUE=URI;X-ADDRESS=Friedrich-Ebert-Straße 49\
 , Seeheim-Jugenheim\, Hessen\, 64342\, Deutschland;X-APPLE-RADIUS=100;X-TI
 TLE=Seeheim-Jugenheim:geo:0,0
END:VEVENT
BEGIN:VTIMEZONE
TZID:Europe/Berlin
X-LIC-LOCATION:Europe/Berlin
BEGIN:DAYLIGHT
DTSTART:20260329T030000
TZOFFSETFROM:+0100
TZOFFSETTO:+0200
TZNAME:CEST
END:DAYLIGHT
END:VTIMEZONE
END:VCALENDAR